BEGIN:VCALENDAR
VERSION:2.0
PRODID:-//UKAF RFC - ECPv6.15.20//NONSGML v1.0//EN
CALSCALE:GREGORIAN
METHOD:PUBLISH
X-ORIGINAL-URL:https://www.ukafrfc.co.uk
X-WR-CALDESC:Events for UKAF RFC
REFRESH-INTERVAL;VALUE=DURATION:PT1H
X-Robots-Tag:noindex
X-PUBLISHED-TTL:PT1H
BEGIN:VTIMEZONE
TZID:UTC
BEGIN:STANDARD
TZOFFSETFROM:+0000
TZOFFSETTO:+0000
TZNAME:UTC
DTSTART:20230101T000000
END:STANDARD
END:VTIMEZONE
BEGIN:VEVENT
DTSTART;TZID=UTC:20240706T080000
DTEND;TZID=UTC:20240706T170000
DTSTAMP:20260423T223028
CREATED:20240706T161155Z
LAST-MODIFIED:20240706T161155Z
UID:10000046-1720252800-1720285200@www.ukafrfc.co.uk
SUMMARY:JF7s
DESCRIPTION:Both UKAF men’s and women’s 7s teams will be taking on this fixture as a warm up to two big international tournaments later in the year.
URL:https://www.ukafrfc.co.uk/fixture/jf7s/
LOCATION:Barnham Road
CATEGORIES:Mens' Sevens,Women's Sevens
ATTACH;FMTTYPE=image/png:https://www.ukafrfc.co.uk/wp-content/uploads/2024/07/jf7s.png
END:VEVENT
END:VCALENDAR