BEGIN:VCALENDAR
VERSION:2.0
PRODID:-//UKAF RFC - ECPv6.15.20//NONSGML v1.0//EN
CALSCALE:GREGORIAN
METHOD:PUBLISH
X-ORIGINAL-URL:https://www.ukafrfc.co.uk
X-WR-CALDESC:Events for UKAF RFC
REFRESH-INTERVAL;VALUE=DURATION:PT1H
X-Robots-Tag:noindex
X-PUBLISHED-TTL:PT1H
BEGIN:VTIMEZONE
TZID:UTC
BEGIN:STANDARD
TZOFFSETFROM:+0000
TZOFFSETTO:+0000
TZNAME:UTC
DTSTART:20240101T000000
END:STANDARD
END:VTIMEZONE
BEGIN:VEVENT
DTSTART;TZID=UTC:20250821T160000
DTEND;TZID=UTC:20250821T183000
DTSTAMP:20260424T120226
CREATED:20250609T180200Z
LAST-MODIFIED:20250609T180200Z
UID:10000059-1755792000-1755801000@www.ukafrfc.co.uk
SUMMARY:IDRC - UK Vs Ireland
DESCRIPTION:
URL:https://www.ukafrfc.co.uk/fixture/idrc-uk-vs-ireland/
LOCATION:Basingstoke RFC\, Down Grange\, Pack Lane\, Basingstoke\, Hampshire\, RG22 5HH\, United Kingdom
END:VEVENT
BEGIN:VEVENT
DTSTART;TZID=UTC:20250821T130000
DTEND;TZID=UTC:20250821T153000
DTSTAMP:20260424T120226
CREATED:20250609T180057Z
LAST-MODIFIED:20250609T180057Z
UID:10000058-1755781200-1755790200@www.ukafrfc.co.uk
SUMMARY:IDRC - Zambia Vs Tonga
DESCRIPTION:
URL:https://www.ukafrfc.co.uk/fixture/idrc-zambia-vs-tonga/
LOCATION:Basingstoke RFC\, Down Grange\, Pack Lane\, Basingstoke\, Hampshire\, RG22 5HH\, United Kingdom
END:VEVENT
END:VCALENDAR