BEGIN:VCALENDAR
VERSION:2.0
PRODID:-//UKAF RFC - ECPv6.15.20//NONSGML v1.0//EN
CALSCALE:GREGORIAN
METHOD:PUBLISH
X-ORIGINAL-URL:https://www.ukafrfc.co.uk
X-WR-CALDESC:Events for UKAF RFC
REFRESH-INTERVAL;VALUE=DURATION:PT1H
X-Robots-Tag:noindex
X-PUBLISHED-TTL:PT1H
BEGIN:VTIMEZONE
TZID:UTC
BEGIN:STANDARD
TZOFFSETFROM:+0000
TZOFFSETTO:+0000
TZNAME:UTC
DTSTART:20210101T000000
END:STANDARD
END:VTIMEZONE
BEGIN:VEVENT
DTSTART;VALUE=DATE:20230303
DTEND;VALUE=DATE:20230304
DTSTAMP:20260424T070240
CREATED:20230919T080829Z
LAST-MODIFIED:20230926T143145Z
UID:10000030-1677801600-1677887999@www.ukafrfc.co.uk
SUMMARY:UKAF U23s vs Coventry
DESCRIPTION:
URL:https://www.ukafrfc.co.uk/fixture/ukafc-vs-coventry/
LOCATION:Butts Park Arena\, Butts Rd\, Coventry\, West Midlands\, CV1 3GE\, United Kingdom
CATEGORIES:Men's XV U23
END:VEVENT
BEGIN:VEVENT
DTSTART;VALUE=DATE:20220401
DTEND;VALUE=DATE:20220402
DTSTAMP:20260424T070240
CREATED:20230919T102638Z
LAST-MODIFIED:20230919T102638Z
UID:10000032-1648771200-1648857599@www.ukafrfc.co.uk
SUMMARY:UKAF vs Coventry Rugby
DESCRIPTION:
URL:https://www.ukafrfc.co.uk/fixture/ukaf-vs-coventry-rugby/
LOCATION:Butts Park Arena\, Butts Rd\, Coventry\, West Midlands\, CV1 3GE\, United Kingdom
CATEGORIES:Men's XV U23
END:VEVENT
END:VCALENDAR