BEGIN:VCALENDAR
VERSION:2.0
PRODID:-//UKAF RFC - ECPv6.15.20//NONSGML v1.0//EN
CALSCALE:GREGORIAN
METHOD:PUBLISH
X-ORIGINAL-URL:https://www.ukafrfc.co.uk
X-WR-CALDESC:Events for UKAF RFC
REFRESH-INTERVAL;VALUE=DURATION:PT1H
X-Robots-Tag:noindex
X-PUBLISHED-TTL:PT1H
BEGIN:VTIMEZONE
TZID:UTC
BEGIN:STANDARD
TZOFFSETFROM:+0000
TZOFFSETTO:+0000
TZNAME:UTC
DTSTART:20140101T000000
END:STANDARD
END:VTIMEZONE
BEGIN:VEVENT
DTSTART;VALUE=DATE:20171108
DTEND;VALUE=DATE:20171109
DTSTAMP:20260424T085415
CREATED:20230918T132925Z
LAST-MODIFIED:20230918T133306Z
UID:10000023-1510099200-1510185599@www.ukafrfc.co.uk
SUMMARY:UKAF vs Wales Development - Women’s 2017 Remembrance Match
DESCRIPTION:
URL:https://www.ukafrfc.co.uk/fixture/ukaf-vs-wales-development-womens-2017-remembrance-match/
LOCATION:Cardiff Arms Park\, Westgate St\, Cardiff\, Wales\, CF10 1JA\, United Kingdom
CATEGORIES:Women's XV
END:VEVENT
BEGIN:VEVENT
DTSTART;VALUE=DATE:20161111
DTEND;VALUE=DATE:20161112
DTSTAMP:20260424T085415
CREATED:20230914T215217Z
LAST-MODIFIED:20230914T215825Z
UID:10000022-1478822400-1478908799@www.ukafrfc.co.uk
SUMMARY:UKAF vs Wales Women
DESCRIPTION:
URL:https://www.ukafrfc.co.uk/fixture/ukaf-vs-wales-women/
LOCATION:Cardiff Arms Park\, Westgate St\, Cardiff\, Wales\, CF10 1JA\, United Kingdom
CATEGORIES:Women's XV
END:VEVENT
BEGIN:VEVENT
DTSTART;TZID=UTC:20150907T080000
DTEND;TZID=UTC:20150907T170000
DTSTAMP:20260424T085415
CREATED:20230914T213155Z
LAST-MODIFIED:20230914T215849Z
UID:10000021-1441612800-1441645200@www.ukafrfc.co.uk
SUMMARY:UKAF vs Cardiff Blues Wales Select XV
DESCRIPTION:
URL:https://www.ukafrfc.co.uk/fixture/ukaf-vs-cardiff-blues-wales-select-xv/
LOCATION:Cardiff Arms Park\, Westgate St\, Cardiff\, Wales\, CF10 1JA\, United Kingdom
CATEGORIES:Women's XV
END:VEVENT
END:VCALENDAR