BEGIN:VCALENDAR
VERSION:2.0
PRODID:-//UKAF RFC - ECPv6.15.20//NONSGML v1.0//EN
CALSCALE:GREGORIAN
METHOD:PUBLISH
X-ORIGINAL-URL:https://www.ukafrfc.co.uk
X-WR-CALDESC:Events for UKAF RFC
REFRESH-INTERVAL;VALUE=DURATION:PT1H
X-Robots-Tag:noindex
X-PUBLISHED-TTL:PT1H
BEGIN:VTIMEZONE
TZID:UTC
BEGIN:STANDARD
TZOFFSETFROM:+0000
TZOFFSETTO:+0000
TZNAME:UTC
DTSTART:20220101T000000
END:STANDARD
END:VTIMEZONE
BEGIN:VEVENT
DTSTART;VALUE=DATE:20230827
DTEND;VALUE=DATE:20230828
DTSTAMP:20260424T051702
CREATED:20230913T163627Z
LAST-MODIFIED:20231016T073435Z
UID:10000017-1693094400-1693180799@www.ukafrfc.co.uk
SUMMARY:UKAF vs Spanish Armed Forces- IDRC 2023
DESCRIPTION:
URL:https://www.ukafrfc.co.uk/fixture/ukaf-vs-spanish-armed-forces-idrc-2023/
LOCATION:Champ Courtin Stadium\, Terrain de Sports\, Champ Courtin\,\, Melesse\, 35520\, France
CATEGORIES:Men's XV
END:VEVENT
BEGIN:VEVENT
DTSTART;VALUE=DATE:20230823
DTEND;VALUE=DATE:20230824
DTSTAMP:20260424T051702
CREATED:20230913T160449Z
LAST-MODIFIED:20231016T073605Z
UID:10000016-1692748800-1692835199@www.ukafrfc.co.uk
SUMMARY:UKAF vs Georgia Defence Forces - IDRC 2023
DESCRIPTION:
URL:https://www.ukafrfc.co.uk/fixture/ukaf-vs-georgia-defence-forces-idrc-2023/
LOCATION:Champ Courtin Stadium\, Terrain de Sports\, Champ Courtin\,\, Melesse\, 35520\, France
CATEGORIES:Men's XV
END:VEVENT
END:VCALENDAR