BEGIN:VCALENDAR
VERSION:2.0
PRODID:-//UKAF RFC - ECPv6.15.20//NONSGML v1.0//EN
CALSCALE:GREGORIAN
METHOD:PUBLISH
X-ORIGINAL-URL:https://www.ukafrfc.co.uk
X-WR-CALDESC:Events for UKAF RFC
REFRESH-INTERVAL;VALUE=DURATION:PT1H
X-Robots-Tag:noindex
X-PUBLISHED-TTL:PT1H
BEGIN:VTIMEZONE
TZID:UTC
BEGIN:STANDARD
TZOFFSETFROM:+0000
TZOFFSETTO:+0000
TZNAME:UTC
DTSTART:20230101T000000
END:STANDARD
END:VTIMEZONE
BEGIN:VEVENT
DTSTART;TZID=UTC:20240315T183000
DTEND;TZID=UTC:20240315T203000
DTSTAMP:20260423T223343
CREATED:20231214T214333Z
LAST-MODIFIED:20240315T182415Z
UID:10000041-1710527400-1710534600@www.ukafrfc.co.uk
SUMMARY:UKAF U23s vs Bristol University
DESCRIPTION:
URL:https://www.ukafrfc.co.uk/fixture/ukaf-u23s-vs-bristol-university/
LOCATION:Clifton RFC\, Cribbs Causeway\, Hallen\, BS107TT\, United Kingdom
CATEGORIES:Men's XV U23
ATTACH;FMTTYPE=image/jpeg:https://www.ukafrfc.co.uk/wp-content/uploads/2023/09/UKAF-OFFICIAL-20230224-RUGBY-GCK-029.jpg
END:VEVENT
END:VCALENDAR