BEGIN:VCALENDAR
VERSION:2.0
PRODID:-//UKAF RFC - ECPv6.15.20//NONSGML v1.0//EN
CALSCALE:GREGORIAN
METHOD:PUBLISH
X-WR-CALNAME:UKAF RFC
X-ORIGINAL-URL:https://www.ukafrfc.co.uk
X-WR-CALDESC:Events for UKAF RFC
REFRESH-INTERVAL;VALUE=DURATION:PT1H
X-Robots-Tag:noindex
X-PUBLISHED-TTL:PT1H
BEGIN:VTIMEZONE
TZID:UTC
BEGIN:STANDARD
TZOFFSETFROM:+0000
TZOFFSETTO:+0000
TZNAME:UTC
DTSTART:20220101T000000
END:STANDARD
END:VTIMEZONE
BEGIN:VEVENT
DTSTART;VALUE=DATE:20250621
DTEND;VALUE=DATE:20250622
DTSTAMP:20260423T223237
CREATED:20250609T170953Z
LAST-MODIFIED:20250609T171849Z
UID:10000051-1750464000-1750550399@www.ukafrfc.co.uk
SUMMARY:Military Vs Cancer
DESCRIPTION:UKAF Women’s  XV & U23 Men’s go head to head with North East XV at Kingston Park for Military vs Cancer’s Armed Forces Day Event on Saturday 21st June 2025. \nDefending the Try Line. \nHonouring the Frontline.
URL:https://www.ukafrfc.co.uk/fixture/military-vs-cancer/
LOCATION:Kingston Park Stadium\, Brunton Rd\, Kenton Bank Foot\,\, Newcastle upon Tyne\, Tyne and Wear\, NE13 8AF\, United Kingdom
END:VEVENT
BEGIN:VEVENT
DTSTART;TZID=UTC:20240622T140000
DTEND;TZID=UTC:20240622T160000
DTSTAMP:20260423T223237
CREATED:20240209T093017Z
LAST-MODIFIED:20240209T093017Z
UID:10000044-1719064800-1719072000@www.ukafrfc.co.uk
SUMMARY:UKAF Men vs North of England Select XV
DESCRIPTION:
URL:https://www.ukafrfc.co.uk/fixture/ukaf-men-vs-north-of-england-select-xv/
LOCATION:Kingston Park Stadium\, Brunton Rd\, Kenton Bank Foot\,\, Newcastle upon Tyne\, Tyne and Wear\, NE13 8AF\, United Kingdom
CATEGORIES:Men's XV
ATTACH;FMTTYPE=image/jpeg:https://www.ukafrfc.co.uk/wp-content/uploads/2023/09/UKAF-OFFICIAL-20230624-RUGBY-CW034.jpg
END:VEVENT
BEGIN:VEVENT
DTSTART;TZID=UTC:20240622T120000
DTEND;TZID=UTC:20240622T140000
DTSTAMP:20260423T223237
CREATED:20240209T092755Z
LAST-MODIFIED:20240209T092755Z
UID:10000043-1719057600-1719064800@www.ukafrfc.co.uk
SUMMARY:UKAF Women vs North of England Select XV
DESCRIPTION:
URL:https://www.ukafrfc.co.uk/fixture/ukaf-women-vs-north-of-england-select-xv/
LOCATION:Kingston Park Stadium\, Brunton Rd\, Kenton Bank Foot\,\, Newcastle upon Tyne\, Tyne and Wear\, NE13 8AF\, United Kingdom
CATEGORIES:Women's XV
ATTACH;FMTTYPE=image/jpeg:https://www.ukafrfc.co.uk/wp-content/uploads/2023/11/UKAF-OFFICIAL-20231108-RUGBYUNION-LC094.jpeg
END:VEVENT
BEGIN:VEVENT
DTSTART;VALUE=DATE:20230624
DTEND;VALUE=DATE:20230625
DTSTAMP:20260423T223237
CREATED:20230913T160300Z
LAST-MODIFIED:20230913T210828Z
UID:10000014-1687564800-1687651199@www.ukafrfc.co.uk
SUMMARY:UKAF vs North of England XV - Armed Forces Day 2023
DESCRIPTION:
URL:https://www.ukafrfc.co.uk/fixture/ukaf-vs-north-of-england-xv-armed-forces-day-2023/
LOCATION:Kingston Park Stadium\, Brunton Rd\, Kenton Bank Foot\,\, Newcastle upon Tyne\, Tyne and Wear\, NE13 8AF\, United Kingdom
CATEGORIES:Men's XV
END:VEVENT
END:VCALENDAR