BEGIN:VCALENDAR
VERSION:2.0
PRODID:-//UKAF RFC - ECPv6.15.20//NONSGML v1.0//EN
CALSCALE:GREGORIAN
METHOD:PUBLISH
X-ORIGINAL-URL:https://www.ukafrfc.co.uk
X-WR-CALDESC:Events for UKAF RFC
REFRESH-INTERVAL;VALUE=DURATION:PT1H
X-Robots-Tag:noindex
X-PUBLISHED-TTL:PT1H
BEGIN:VTIMEZONE
TZID:Europe/Paris
BEGIN:DAYLIGHT
TZOFFSETFROM:+0100
TZOFFSETTO:+0200
TZNAME:CEST
DTSTART:20220327T010000
END:DAYLIGHT
BEGIN:STANDARD
TZOFFSETFROM:+0200
TZOFFSETTO:+0100
TZNAME:CET
DTSTART:20221030T010000
END:STANDARD
BEGIN:DAYLIGHT
TZOFFSETFROM:+0100
TZOFFSETTO:+0200
TZNAME:CEST
DTSTART:20230326T010000
END:DAYLIGHT
BEGIN:STANDARD
TZOFFSETFROM:+0200
TZOFFSETTO:+0100
TZNAME:CET
DTSTART:20231029T010000
END:STANDARD
BEGIN:DAYLIGHT
TZOFFSETFROM:+0100
TZOFFSETTO:+0200
TZNAME:CEST
DTSTART:20240331T010000
END:DAYLIGHT
BEGIN:STANDARD
TZOFFSETFROM:+0200
TZOFFSETTO:+0100
TZNAME:CET
DTSTART:20241027T010000
END:STANDARD
END:VTIMEZONE
BEGIN:VEVENT
DTSTART;TZID=Europe/Paris:20231111T160000
DTEND;TZID=Europe/Paris:20231111T180000
DTSTAMP:20260424T001629
CREATED:20230913T145925Z
LAST-MODIFIED:20231116T201741Z
UID:10000002-1699718400-1699725600@www.ukafrfc.co.uk
SUMMARY:UKAF Men vs Poland
DESCRIPTION:
URL:https://www.ukafrfc.co.uk/fixture/ukaf-vs-poland/
LOCATION:Narodowy Stadion\, ul. Kazimierza Górskiego 10\, Gdynia\, 81-304\, Poland
CATEGORIES:Men's XV
ATTACH;FMTTYPE=image/jpeg:https://www.ukafrfc.co.uk/wp-content/uploads/2023/11/W_SZ1185.jpg
END:VEVENT
END:VCALENDAR