BEGIN:VCALENDAR
VERSION:2.0
PRODID:-//UKAF RFC - ECPv6.15.20//NONSGML v1.0//EN
CALSCALE:GREGORIAN
METHOD:PUBLISH
X-ORIGINAL-URL:https://www.ukafrfc.co.uk
X-WR-CALDESC:Events for UKAF RFC
REFRESH-INTERVAL;VALUE=DURATION:PT1H
X-Robots-Tag:noindex
X-PUBLISHED-TTL:PT1H
BEGIN:VTIMEZONE
TZID:UTC
BEGIN:STANDARD
TZOFFSETFROM:+0000
TZOFFSETTO:+0000
TZNAME:UTC
DTSTART:20210101T000000
END:STANDARD
END:VTIMEZONE
BEGIN:VEVENT
DTSTART;VALUE=DATE:20220212
DTEND;VALUE=DATE:20220213
DTSTAMP:20260424T033937
CREATED:20230919T102912Z
LAST-MODIFIED:20230919T102912Z
UID:10000033-1644624000-1644710399@www.ukafrfc.co.uk
SUMMARY:UKAF vs Ealing
DESCRIPTION:
URL:https://www.ukafrfc.co.uk/fixture/ukaf-vs-ealing/
LOCATION:Trailfinders Sports Club\, Castle Bar\, Vallis Way\, London\, London\, W13 0DD\, United Kingdom
CATEGORIES:Men's XV U23
END:VEVENT
END:VCALENDAR