BEGIN:VCALENDAR
VERSION:2.0
PRODID:-//UKAF RFC - ECPv6.15.20//NONSGML v1.0//EN
CALSCALE:GREGORIAN
METHOD:PUBLISH
X-ORIGINAL-URL:https://www.ukafrfc.co.uk
X-WR-CALDESC:Events for UKAF RFC
REFRESH-INTERVAL;VALUE=DURATION:PT1H
X-Robots-Tag:noindex
X-PUBLISHED-TTL:PT1H
BEGIN:VTIMEZONE
TZID:UTC
BEGIN:STANDARD
TZOFFSETFROM:+0000
TZOFFSETTO:+0000
TZNAME:UTC
DTSTART:20160101T000000
END:STANDARD
END:VTIMEZONE
BEGIN:VEVENT
DTSTART;VALUE=DATE:20190504
DTEND;VALUE=DATE:20190505
DTSTAMP:20260424T065917
CREATED:20230919T103158Z
LAST-MODIFIED:20230919T103434Z
UID:10000034-1556928000-1557014399@www.ukafrfc.co.uk
SUMMARY:UKAF vs Oxbridge - 2019
DESCRIPTION:
URL:https://www.ukafrfc.co.uk/fixture/ukaf-vs-oxbridge-2019/
LOCATION:Twickenham\, 200 Whitton Rd\,\, London\, London\, TW2 7BA\, United Kingdom
CATEGORIES:Men's XV U23
END:VEVENT
BEGIN:VEVENT
DTSTART;VALUE=DATE:20170101
DTEND;VALUE=DATE:20170102
DTSTAMP:20260424T065917
CREATED:20230919T104053Z
LAST-MODIFIED:20230919T104053Z
UID:10000036-1483228800-1483315199@www.ukafrfc.co.uk
SUMMARY:UKAF vs Oxbridge - 2016
DESCRIPTION:
URL:https://www.ukafrfc.co.uk/fixture/ukaf-vs-oxbridge-2016/
LOCATION:Twickenham\, 200 Whitton Rd\,\, London\, London\, TW2 7BA\, United Kingdom
CATEGORIES:Men's XV U23
END:VEVENT
BEGIN:VEVENT
DTSTART;VALUE=DATE:20170101
DTEND;VALUE=DATE:20170102
DTSTAMP:20260424T065917
CREATED:20230919T103827Z
LAST-MODIFIED:20230919T103827Z
UID:10000035-1483228800-1483315199@www.ukafrfc.co.uk
SUMMARY:UKAF vs Oxbridge - 2017
DESCRIPTION:
URL:https://www.ukafrfc.co.uk/fixture/ukaf-vs-oxbridge-2017/
LOCATION:Twickenham\, 200 Whitton Rd\,\, London\, London\, TW2 7BA\, United Kingdom
CATEGORIES:Men's XV U23
END:VEVENT
END:VCALENDAR